BEGIN:VCALENDAR
VERSION:2.0
PRODID:-//Rethink Diabetes - ECPv6.15.20//NONSGML v1.0//EN
CALSCALE:GREGORIAN
METHOD:PUBLISH
X-ORIGINAL-URL:https://rethinkdiabetesmaine.org
X-WR-CALDESC:Events for Rethink Diabetes
REFRESH-INTERVAL;VALUE=DURATION:PT1H
X-Robots-Tag:noindex
X-PUBLISHED-TTL:PT1H
BEGIN:VTIMEZONE
TZID:America/New_York
BEGIN:DAYLIGHT
TZOFFSETFROM:-0500
TZOFFSETTO:-0400
TZNAME:EDT
DTSTART:20220313T070000
END:DAYLIGHT
BEGIN:STANDARD
TZOFFSETFROM:-0400
TZOFFSETTO:-0500
TZNAME:EST
DTSTART:20221106T060000
END:STANDARD
BEGIN:DAYLIGHT
TZOFFSETFROM:-0500
TZOFFSETTO:-0400
TZNAME:EDT
DTSTART:20230312T070000
END:DAYLIGHT
BEGIN:STANDARD
TZOFFSETFROM:-0400
TZOFFSETTO:-0500
TZNAME:EST
DTSTART:20231105T060000
END:STANDARD
BEGIN:DAYLIGHT
TZOFFSETFROM:-0500
TZOFFSETTO:-0400
TZNAME:EDT
DTSTART:20240310T070000
END:DAYLIGHT
BEGIN:STANDARD
TZOFFSETFROM:-0400
TZOFFSETTO:-0500
TZNAME:EST
DTSTART:20241103T060000
END:STANDARD
BEGIN:DAYLIGHT
TZOFFSETFROM:-0500
TZOFFSETTO:-0400
TZNAME:EDT
DTSTART:20250309T070000
END:DAYLIGHT
BEGIN:STANDARD
TZOFFSETFROM:-0400
TZOFFSETTO:-0500
TZNAME:EST
DTSTART:20251102T060000
END:STANDARD
END:VTIMEZONE
BEGIN:VEVENT
DTSTART;TZID=America/New_York:20241104T173000
DTEND;TZID=America/New_York:20241104T183000
DTSTAMP:20260423T103205
CREATED:20240808T150235Z
LAST-MODIFIED:20240808T150235Z
UID:10000078-1730741400-1730745000@rethinkdiabetesmaine.org
SUMMARY:National Diabetes Prevention Program - MaineGeneral Health
DESCRIPTION:Being at risk for type 2 diabetes can be scary. The good news is\, you can make small changes to reduce your risk and fear. Join the National Diabetes Prevention Program to learn how to eat healthier\, increase activity\, lower your blood sugar and improve your overall health. You gain a year’s worth of support within a group setting\, along with a dedicated lifestyle coach. Don’t miss your chance for encouragement and to meet others trying to live healthier\, just like you. This class meets weekly for 16 weeks\, then twice a month for the remainder of one year.
URL:https://rethinkdiabetesmaine.org/class/national-diabetes-prevention-program-mainegeneral-health-2/2024-11-04/2/
LOCATION:Alfond Center for Health (hospital)\, 35 Medical Center Parkway\, Augusta\, ME 04330\, ME\, 04330\, United States
ORGANIZER;CN="MaineGeneral Health":MAILTO:PHL@mainegeneral.org
END:VEVENT
BEGIN:VEVENT
DTSTART;TZID=America/New_York:20241104T080000
DTEND;TZID=America/New_York:20241104T170000
DTSTAMP:20260423T103205
CREATED:20240808T150235Z
LAST-MODIFIED:20240808T150235Z
UID:10000077-1730707200-1730739600@rethinkdiabetesmaine.org
SUMMARY:National Diabetes Prevention Program - MaineGeneral Health
DESCRIPTION:Being at risk for type 2 diabetes can be scary. The good news is\, you can make small changes to reduce your risk and fear. Join the National Diabetes Prevention Program to learn how to eat healthier\, increase activity\, lower your blood sugar and improve your overall health. You gain a year’s worth of support within a group setting\, along with a dedicated lifestyle coach. Don’t miss your chance for encouragement and to meet others trying to live healthier\, just like you. This class meets weekly for 16 weeks\, then twice a month for the remainder of one year.
URL:https://rethinkdiabetesmaine.org/class/national-diabetes-prevention-program-mainegeneral-health-2/2024-11-04/1/
LOCATION:Alfond Center for Health (hospital)\, 35 Medical Center Parkway\, Augusta\, ME 04330\, ME\, 04330\, United States
ORGANIZER;CN="MaineGeneral Health":MAILTO:PHL@mainegeneral.org
END:VEVENT
BEGIN:VEVENT
DTSTART;TZID=America/New_York:20241021T120000
DTEND;TZID=America/New_York:20241021T130000
DTSTAMP:20260423T103205
CREATED:20240808T145951Z
LAST-MODIFIED:20240808T145951Z
UID:10000076-1729512000-1729515600@rethinkdiabetesmaine.org
SUMMARY:National Diabetes Prevention Program  - MaineGeneral Health
DESCRIPTION:Being at risk for type 2 diabetes can be scary. The good news is\, you can make small changes to reduce your risk and fear. Join the National Diabetes Prevention Program to learn how to eat healthier\, increase activity\, lower your blood sugar and improve your overall health. You gain a year’s worth of support within a group setting\, along with a dedicated lifestyle coach. Don’t miss your chance for encouragement and to meet others trying to live healthier\, just like you. This class meets weekly for 16 weeks\, then twice a month for the remainder of one year.
URL:https://rethinkdiabetesmaine.org/class/national-diabetes-prevention-program-mainegeneral-health/
LOCATION:Alfond Center for Health (hospital)\, 35 Medical Center Parkway\, Augusta\, ME 04330\, ME\, 04330\, United States
ORGANIZER;CN="MaineGeneral Health":MAILTO:PHL@mainegeneral.org
END:VEVENT
BEGIN:VEVENT
DTSTART;TZID=America/New_York:20231031T130000
DTEND;TZID=America/New_York:20231031T153000
DTSTAMP:20260423T103205
CREATED:20230905T163711Z
LAST-MODIFIED:20230905T163711Z
UID:10000019-1698757200-1698766200@rethinkdiabetesmaine.org
SUMMARY:Living Well with Diabetes - MaineGeneral
DESCRIPTION:Feel better\, be in control and connect with others as you learn ways to manage your diabetes. In this 6 week program\, we help one another reach small goals each week by sharing ideas and exploring solutions to eat healthier\, move more and monitor/manage blood sugar levels. 
URL:https://rethinkdiabetesmaine.org/class/living-well-with-diabetes-mainegeneral-2/
LOCATION:Alfond Center for Health (hospital)\, 35 Medical Center Parkway\, Augusta\, ME 04330\, ME\, 04330\, United States
CATEGORIES:Diabetes Self-Management Education and Support
ORGANIZER;CN="MaineGeneral Health":MAILTO:PHL@mainegeneral.org
END:VEVENT
BEGIN:VEVENT
DTSTART;TZID=America/New_York:20231016T173000
DTEND;TZID=America/New_York:20231016T183000
DTSTAMP:20260423T103205
CREATED:20230808T124926Z
LAST-MODIFIED:20230808T124926Z
UID:10000018-1697477400-1697481000@rethinkdiabetesmaine.org
SUMMARY:National Diabetes Prevention Program – MaineGeneral
DESCRIPTION:Being at risk for developing type 2 diabetes can be scary\, but there are things you can do to help reduce your risk.By eating healthier and increasing activity you can improve your blood sugar level and your overall health. The National Diabetes Prevention Program can help. This program provides a whole year of support from a trained lifestyle coach\, along with peer support within a group setting. Don’t miss your chance to find encouragement\, advice and support from individuals who are trying to live a healthier lifestyle\, just like you. This class meets weekly for 16 weeks\, then twice a month for eight months\, for a total of one year.
URL:https://rethinkdiabetesmaine.org/class/national-diabetes-prevention-program-mainegeneral-2/
LOCATION:Alfond Center for Health (hospital)\, 35 Medical Center Parkway\, Augusta\, ME 04330\, ME\, 04330\, United States
CATEGORIES:National Diabetes Prevention Program
ORGANIZER;CN="MaineGeneral Health":MAILTO:PHL@mainegeneral.org
END:VEVENT
END:VCALENDAR