BEGIN:VCALENDAR
VERSION:2.0
PRODID:-//Rethink Diabetes - ECPv6.15.20//NONSGML v1.0//EN
CALSCALE:GREGORIAN
METHOD:PUBLISH
X-ORIGINAL-URL:https://rethinkdiabetesmaine.org
X-WR-CALDESC:Events for Rethink Diabetes
REFRESH-INTERVAL;VALUE=DURATION:PT1H
X-Robots-Tag:noindex
X-PUBLISHED-TTL:PT1H
BEGIN:VTIMEZONE
TZID:America/New_York
BEGIN:DAYLIGHT
TZOFFSETFROM:-0500
TZOFFSETTO:-0400
TZNAME:EDT
DTSTART:20220313T070000
END:DAYLIGHT
BEGIN:STANDARD
TZOFFSETFROM:-0400
TZOFFSETTO:-0500
TZNAME:EST
DTSTART:20221106T060000
END:STANDARD
BEGIN:DAYLIGHT
TZOFFSETFROM:-0500
TZOFFSETTO:-0400
TZNAME:EDT
DTSTART:20230312T070000
END:DAYLIGHT
BEGIN:STANDARD
TZOFFSETFROM:-0400
TZOFFSETTO:-0500
TZNAME:EST
DTSTART:20231105T060000
END:STANDARD
BEGIN:DAYLIGHT
TZOFFSETFROM:-0500
TZOFFSETTO:-0400
TZNAME:EDT
DTSTART:20240310T070000
END:DAYLIGHT
BEGIN:STANDARD
TZOFFSETFROM:-0400
TZOFFSETTO:-0500
TZNAME:EST
DTSTART:20241103T060000
END:STANDARD
END:VTIMEZONE
BEGIN:VEVENT
DTSTART;TZID=America/New_York:20230622T150000
DTEND;TZID=America/New_York:20230622T170000
DTSTAMP:20260420T091147
CREATED:20230407T183319Z
LAST-MODIFIED:20230407T183319Z
UID:10000065-1687446000-1687453200@rethinkdiabetesmaine.org
SUMMARY:Pump and Sensor Exploration: 2 hrs (DSME)/Virtual
DESCRIPTION:Come meet a diabetes educator and we will explore the different insulin pumps and glucose monitoring devices available that may be used to help manage your diabetes. \n\nBe 18 years of age or older\nHave Type 1 or Type 2 diabetes\n\nA healthcare provider referral for Diabetes Self-Management Education is needed before attending.
URL:https://rethinkdiabetesmaine.org/class/pump-and-sensor-exploration-2-hrs-dsme-virtual/2023-06-22/
LOCATION:Virtual\, Maine
CATEGORIES:Diabetes Self-Management Education and Support
END:VEVENT
BEGIN:VEVENT
DTSTART;TZID=America/New_York:20230601T150000
DTEND;TZID=America/New_York:20230601T170000
DTSTAMP:20260420T091147
CREATED:20230406T124528Z
LAST-MODIFIED:20230406T124829Z
UID:10000056-1685631600-1685638800@rethinkdiabetesmaine.org
SUMMARY:Eating Well with Type 2 Diabetes: 2 hours (MNT)/Virtual
DESCRIPTION:Come meet with a Clinical Dietitian and learn about the basics of nutrition. \nTo attend\, participants must: \n\nBe 18 years of age or older and\nHave type 2 diabetes\n\nA healthcare provider referral for Medical Nutrition Therapy is needed before attending.
URL:https://rethinkdiabetesmaine.org/class/eating-well-with-type-2-diabetes-2-hours-mnt-virtual/2023-06-01/
LOCATION:Virtual\, Maine
CATEGORIES:Other
END:VEVENT
BEGIN:VEVENT
DTSTART;TZID=America/New_York:20230525T080000
DTEND;TZID=America/New_York:20230525T100000
DTSTAMP:20260420T091147
CREATED:20230407T183319Z
LAST-MODIFIED:20230407T183319Z
UID:10000064-1685001600-1685008800@rethinkdiabetesmaine.org
SUMMARY:Pump and Sensor Exploration: 2 hrs (DSME)/Virtual
DESCRIPTION:Come meet a diabetes educator and we will explore the different insulin pumps and glucose monitoring devices available that may be used to help manage your diabetes. \n\nBe 18 years of age or older\nHave Type 1 or Type 2 diabetes\n\nA healthcare provider referral for Diabetes Self-Management Education is needed before attending.
URL:https://rethinkdiabetesmaine.org/class/pump-and-sensor-exploration-2-hrs-dsme-virtual/2023-05-25/
LOCATION:Virtual\, Maine
CATEGORIES:Diabetes Self-Management Education and Support
END:VEVENT
BEGIN:VEVENT
DTSTART;TZID=America/New_York:20230511T080000
DTEND;TZID=America/New_York:20230511T110000
DTSTAMP:20260420T091147
CREATED:20230406T124528Z
LAST-MODIFIED:20230406T124829Z
UID:10000055-1683792000-1683802800@rethinkdiabetesmaine.org
SUMMARY:Eating Well with Type 2 Diabetes: 2 hours (MNT)/Virtual
DESCRIPTION:Come meet with a Clinical Dietitian and learn about the basics of nutrition. \nTo attend\, participants must: \n\nBe 18 years of age or older and\nHave type 2 diabetes\n\nA healthcare provider referral for Medical Nutrition Therapy is needed before attending.
URL:https://rethinkdiabetesmaine.org/class/eating-well-with-type-2-diabetes-2-hours-mnt-virtual/2023-05-11/
LOCATION:Virtual\, Maine
CATEGORIES:Other
END:VEVENT
BEGIN:VEVENT
DTSTART;TZID=America/New_York:20230427T150000
DTEND;TZID=America/New_York:20230427T170000
DTSTAMP:20260420T091147
CREATED:20230407T183319Z
LAST-MODIFIED:20230407T183319Z
UID:10000063-1682607600-1682614800@rethinkdiabetesmaine.org
SUMMARY:Pump and Sensor Exploration: 2 hrs (DSME)/Virtual
DESCRIPTION:Come meet a diabetes educator and we will explore the different insulin pumps and glucose monitoring devices available that may be used to help manage your diabetes. \n\nBe 18 years of age or older\nHave Type 1 or Type 2 diabetes\n\nA healthcare provider referral for Diabetes Self-Management Education is needed before attending.
URL:https://rethinkdiabetesmaine.org/class/pump-and-sensor-exploration-2-hrs-dsme-virtual/2023-04-27/
LOCATION:Virtual\, Maine
CATEGORIES:Diabetes Self-Management Education and Support
END:VEVENT
BEGIN:VEVENT
DTSTART;TZID=America/New_York:20230406T150000
DTEND;TZID=America/New_York:20230406T170000
DTSTAMP:20260420T091147
CREATED:20230406T124528Z
LAST-MODIFIED:20230406T124829Z
UID:10000054-1680793200-1680800400@rethinkdiabetesmaine.org
SUMMARY:Eating Well with Type 2 Diabetes: 2 hours (MNT)/Virtual
DESCRIPTION:Come meet with a Clinical Dietitian and learn about the basics of nutrition. \nTo attend\, participants must: \n\nBe 18 years of age or older and\nHave type 2 diabetes\n\nA healthcare provider referral for Medical Nutrition Therapy is needed before attending.
URL:https://rethinkdiabetesmaine.org/class/eating-well-with-type-2-diabetes-2-hours-mnt-virtual/2023-04-06/
LOCATION:Virtual\, Maine
CATEGORIES:Other
END:VEVENT
END:VCALENDAR